Package: smartid Version: 1.4.0 Command: /home/biocbuild/R/R/bin/R CMD INSTALL smartid StartedAt: 2025-09-29 20:36:55 -0000 (Mon, 29 Sep 2025) EndedAt: 2025-09-29 20:37:28 -0000 (Mon, 29 Sep 2025) EllapsedTime: 32.5 seconds RetCode: 0 Status: OK