Package: smartid Version: 1.4.0 Command: /home/biocbuild/R/R/bin/R CMD check --install=check:smartid.install-out.txt --library=/home/biocbuild/R/R/site-library --no-vignettes --timings smartid_1.4.0.tar.gz StartedAt: 2025-09-30 14:47:43 -0000 (Tue, 30 Sep 2025) EndedAt: 2025-09-30 14:51:59 -0000 (Tue, 30 Sep 2025) EllapsedTime: 255.3 seconds RetCode: 0 Status: OK CheckDir: smartid.Rcheck Warnings: 0