Package: smartid Version: 1.4.0 Command: /Library/Frameworks/R.framework/Resources/bin/R CMD INSTALL smartid StartedAt: 2025-10-02 16:31:13 -0400 (Thu, 02 Oct 2025) EndedAt: 2025-10-02 16:31:41 -0400 (Thu, 02 Oct 2025) EllapsedTime: 28.5 seconds RetCode: 0 Status: OK