Package: smartid Version: 1.4.0 Command: /Library/Frameworks/R.framework/Resources/bin/R CMD check --install=check:smartid.install-out.txt --library=/Library/Frameworks/R.framework/Resources/library --no-vignettes --timings smartid_1.4.0.tar.gz StartedAt: 2025-10-04 12:38:19 -0400 (Sat, 04 Oct 2025) EndedAt: 2025-10-04 12:42:07 -0400 (Sat, 04 Oct 2025) EllapsedTime: 228.2 seconds RetCode: 0 Status: OK CheckDir: smartid.Rcheck Warnings: 0