Package: smartid Version: 1.4.0 Command: rm -rf smartid.buildbin-libdir && mkdir smartid.buildbin-libdir && /Users/biocbuild/BBS/utils/build-universal.sh smartid_1.4.0.tar.gz /Library/Frameworks/R.framework/Resources/bin/R smartid.buildbin-libdir StartedAt: 2025-10-04 20:04:29 -0400 (Sat, 04 Oct 2025) EndedAt: 2025-10-04 20:05:01 -0400 (Sat, 04 Oct 2025) EllapsedTime: 31.7 seconds RetCode: 0 Status: OK PackageFile: smartid_1.4.0.tgz PackageFileSize: 2.121 MiB