Package: smartid Version: 1.4.0 Maintainer: Jinjin Chen MaintainerEmail: chen.j at wehi.edu.au git_url: https://git.bioconductor.org/packages/smartid git_branch: RELEASE_3_21 git_last_commit: 6223cae git_last_commit_date: 2025-04-15 13:31:56 -0400 (Tue, 15 Apr 2025)