Package: slalom Version: 1.30.0 Command: E:\biocbuild\bbs-3.21-bioc\R\bin\R.exe CMD check --no-multiarch --install=check:slalom.install-out.txt --library=E:\biocbuild\bbs-3.21-bioc\R\library --no-vignettes --timings slalom_1.30.0.tar.gz StartedAt: 2025-08-15 07:04:49 -0400 (Fri, 15 Aug 2025) EndedAt: 2025-08-15 07:11:10 -0400 (Fri, 15 Aug 2025) EllapsedTime: 380.7 seconds RetCode: 0 Status: WARNINGS CheckDir: slalom.Rcheck Warnings: 1