Package: slalom Version: 1.30.0 Command: /home/biocbuild/bbs-3.21-bioc/R/bin/R CMD check --install=check:slalom.install-out.txt --library=/home/biocbuild/bbs-3.21-bioc/R/site-library --timings slalom_1.30.0.tar.gz StartedAt: 2025-10-16 03:44:39 -0400 (Thu, 16 Oct 2025) EndedAt: 2025-10-16 03:50:01 -0400 (Thu, 16 Oct 2025) EllapsedTime: 322.4 seconds RetCode: 0 Status: WARNINGS CheckDir: slalom.Rcheck Warnings: 1