Package: slalom Version: 1.30.0 Command: /Library/Frameworks/R.framework/Resources/bin/R CMD build --keep-empty-dirs --no-resave-data slalom StartedAt: 2025-10-13 22:46:41 -0400 (Mon, 13 Oct 2025) EndedAt: 2025-10-13 22:47:05 -0400 (Mon, 13 Oct 2025) EllapsedTime: 24.6 seconds RetCode: 1 Status: ERROR PackageFile: None PackageFileSize: NA