Package: slalom Version: 1.30.0 Command: /Library/Frameworks/R.framework/Resources/bin/R CMD INSTALL slalom StartedAt: 2025-10-13 16:12:58 -0400 (Mon, 13 Oct 2025) EndedAt: 2025-10-13 16:13:08 -0400 (Mon, 13 Oct 2025) EllapsedTime: 9.8 seconds RetCode: 1 Status: ERROR