Package: slalom Version: 1.30.0 Command: /Library/Frameworks/R.framework/Resources/bin/R CMD build --keep-empty-dirs --no-resave-data slalom StartedAt: 2025-10-14 09:45:44 -0400 (Tue, 14 Oct 2025) EndedAt: 2025-10-14 09:45:55 -0400 (Tue, 14 Oct 2025) EllapsedTime: 11.4 seconds RetCode: 1 Status: ERROR PackageFile: None PackageFileSize: NA