Package: slalom Version: 1.30.0 Maintainer: Davis McCarthy MaintainerEmail: davis at ebi.ac.uk git_url: https://git.bioconductor.org/packages/slalom git_branch: RELEASE_3_21 git_last_commit: 3b224d4 git_last_commit_date: 2025-04-15 11:15:08 -0400 (Tue, 15 Apr 2025)