Package: skewr Version: 1.42.0 Command: /Library/Frameworks/R.framework/Resources/bin/R CMD INSTALL skewr StartedAt: 2025-10-31 16:01:37 -0400 (Fri, 31 Oct 2025) EndedAt: 2025-10-31 16:02:14 -0400 (Fri, 31 Oct 2025) EllapsedTime: 38.0 seconds RetCode: 0 Status: OK