Package: sitePath Version: 1.25.1 Command: /home/biocbuild/R/R/bin/R CMD INSTALL sitePath StartedAt: 2025-10-23 20:28:38 -0000 (Thu, 23 Oct 2025) EndedAt: 2025-10-23 20:29:50 -0000 (Thu, 23 Oct 2025) EllapsedTime: 71.5 seconds RetCode: 0 Status: OK