Package: sitadela Version: 1.16.0 Command: /home/biocbuild/bbs-3.21-bioc/R/bin/R CMD check --install=check:sitadela.install-out.txt --library=/home/biocbuild/bbs-3.21-bioc/R/site-library --timings sitadela_1.16.0.tar.gz StartedAt: 2025-10-16 03:43:32 -0400 (Thu, 16 Oct 2025) EndedAt: 2025-10-16 03:51:04 -0400 (Thu, 16 Oct 2025) EllapsedTime: 452.5 seconds RetCode: 0 Status: OK CheckDir: sitadela.Rcheck Warnings: 0