Package: singscore Version: 1.29.0 Command: /home/biocbuild/R/R/bin/R CMD check --install=check:singscore.install-out.txt --library=/home/biocbuild/R/R/site-library --no-vignettes --timings singscore_1.29.0.tar.gz StartedAt: 2025-10-10 13:42:48 -0000 (Fri, 10 Oct 2025) EndedAt: 2025-10-10 13:49:47 -0000 (Fri, 10 Oct 2025) EllapsedTime: 418.8 seconds RetCode: 1 Status: ERROR CheckDir: singscore.Rcheck Warnings: NA