Package: singleCellTK Version: 2.18.2 Command: /home/biocbuild/bbs-3.21-bioc/R/bin/R CMD INSTALL singleCellTK StartedAt: 2025-10-15 15:56:41 -0400 (Wed, 15 Oct 2025) EndedAt: 2025-10-15 15:57:24 -0400 (Wed, 15 Oct 2025) EllapsedTime: 42.4 seconds RetCode: 0 Status: OK