Package: singleCellTK Version: 2.18.2 Command: /home/biocbuild/bbs-3.21-bioc/R/bin/R CMD build --keep-empty-dirs --no-resave-data singleCellTK StartedAt: 2025-10-15 19:57:19 -0400 (Wed, 15 Oct 2025) EndedAt: 2025-10-15 19:58:07 -0400 (Wed, 15 Oct 2025) EllapsedTime: 48.1 seconds RetCode: 0 Status: OK PackageFile: singleCellTK_2.18.2.tar.gz PackageFileSize: 3.24 MiB