Package: singleCellTK Version: 2.18.2 Command: rm -rf singleCellTK.buildbin-libdir && mkdir singleCellTK.buildbin-libdir && /Users/biocbuild/BBS/utils/build-universal.sh singleCellTK_2.18.2.tar.gz /Library/Frameworks/R.framework/Resources/bin/R singleCellTK.buildbin-libdir StartedAt: 2025-10-15 20:34:17 -0400 (Wed, 15 Oct 2025) EndedAt: 2025-10-15 20:35:14 -0400 (Wed, 15 Oct 2025) EllapsedTime: 57.6 seconds RetCode: 0 Status: OK PackageFile: singleCellTK_2.18.2.tgz PackageFileSize: 4.593 MiB