Package: simpleSeg Version: 1.11.1 Command: /home/biocbuild/R/R/bin/R CMD check --install=check:simpleSeg.install-out.txt --library=/home/biocbuild/R/R/site-library --no-vignettes --timings simpleSeg_1.11.1.tar.gz StartedAt: 2025-10-17 13:42:45 -0000 (Fri, 17 Oct 2025) EndedAt: 2025-10-17 13:52:01 -0000 (Fri, 17 Oct 2025) EllapsedTime: 555.8 seconds RetCode: 0 Status: OK CheckDir: simpleSeg.Rcheck Warnings: 0