Package: sigsquared Version: 1.40.0 Command: E:\biocbuild\bbs-3.21-bioc\R\bin\R.exe CMD check --no-multiarch --install=check:sigsquared.install-out.txt --library=E:\biocbuild\bbs-3.21-bioc\R\library --no-vignettes --timings sigsquared_1.40.0.tar.gz StartedAt: 2025-08-15 06:57:48 -0400 (Fri, 15 Aug 2025) EndedAt: 2025-08-15 06:59:06 -0400 (Fri, 15 Aug 2025) EllapsedTime: 77.8 seconds RetCode: 0 Status: OK CheckDir: sigsquared.Rcheck Warnings: 0