Package: sigsquared Version: 1.40.0 Command: chmod a+r sigsquared -R && E:\biocbuild\bbs-3.21-bioc\R\bin\R.exe CMD build --keep-empty-dirs --no-resave-data sigsquared StartedAt: 2025-08-14 22:15:57 -0400 (Thu, 14 Aug 2025) EndedAt: 2025-08-14 22:17:00 -0400 (Thu, 14 Aug 2025) EllapsedTime: 63.4 seconds RetCode: 0 Status: OK PackageFile: sigsquared_1.40.0.tar.gz PackageFileSize: 341.4 KiB