Package: sigsquared Version: 1.40.0 Command: /home/biocbuild/R/R/bin/R CMD build --keep-empty-dirs --no-resave-data sigsquared StartedAt: 2025-10-03 04:40:01 -0000 (Fri, 03 Oct 2025) EndedAt: 2025-10-03 04:40:31 -0000 (Fri, 03 Oct 2025) EllapsedTime: 30.0 seconds RetCode: 0 Status: OK PackageFile: sigsquared_1.40.0.tar.gz PackageFileSize: 434.9 KiB