Package: signifinder Version: 1.12.0 Command: /home/biocbuild/R/R/bin/R CMD INSTALL signifinder StartedAt: 2025-11-17 22:10:50 -0000 (Mon, 17 Nov 2025) EndedAt: 2025-11-17 22:12:05 -0000 (Mon, 17 Nov 2025) EllapsedTime: 74.9 seconds RetCode: 0 Status: OK