Package: signifinder Version: 1.12.0 Command: /home/biocbuild/bbs-3.22-bioc/R/bin/R CMD check --install=check:signifinder.install-out.txt --library=/home/biocbuild/bbs-3.22-bioc/R/site-library --timings signifinder_1.12.0.tar.gz StartedAt: 2025-11-07 04:05:04 -0500 (Fri, 07 Nov 2025) EndedAt: 2025-11-07 04:27:06 -0500 (Fri, 07 Nov 2025) EllapsedTime: 1322.2 seconds RetCode: 0 Status: OK CheckDir: signifinder.Rcheck Warnings: 0