Package: signeR Version: 2.10.0 Command: E:\biocbuild\bbs-3.21-bioc\R\bin\R.exe CMD check --no-multiarch --install=check:signeR.install-out.txt --library=E:\biocbuild\bbs-3.21-bioc\R\library --no-vignettes --timings signeR_2.10.0.tar.gz StartedAt: 2025-08-15 06:57:12 -0400 (Fri, 15 Aug 2025) EndedAt: 2025-08-15 07:06:45 -0400 (Fri, 15 Aug 2025) EllapsedTime: 573.4 seconds RetCode: 0 Status: OK CheckDir: signeR.Rcheck Warnings: 0