Package: signeR Version: 2.10.0 Command: rm -rf signeR.buildbin-libdir && mkdir signeR.buildbin-libdir && E:\biocbuild\bbs-3.21-bioc\R\bin\R.exe CMD INSTALL --build --library=signeR.buildbin-libdir signeR_2.10.0.tar.gz StartedAt: 2025-08-15 10:19:08 -0400 (Fri, 15 Aug 2025) EndedAt: 2025-08-15 10:21:17 -0400 (Fri, 15 Aug 2025) EllapsedTime: 129.4 seconds RetCode: 0 Status: OK PackageFile: signeR_2.10.0.zip PackageFileSize: 2.887 MiB