Package: signatureSearch Version: 1.24.0 Command: /home/biocbuild/bbs-3.22-bioc/R/bin/R CMD check --install=check:signatureSearch.install-out.txt --library=/home/biocbuild/bbs-3.22-bioc/R/site-library --timings signatureSearch_1.24.0.tar.gz StartedAt: 2025-11-12 04:10:27 -0500 (Wed, 12 Nov 2025) EndedAt: 2025-11-12 04:32:09 -0500 (Wed, 12 Nov 2025) EllapsedTime: 1302.1 seconds RetCode: 0 Status: OK CheckDir: signatureSearch.Rcheck Warnings: 0