Package: sights Version: 1.34.0 Command: /home/biocbuild/R/R/bin/R CMD check --install=check:sights.install-out.txt --library=/home/biocbuild/R/R/site-library --no-vignettes --timings sights_1.34.0.tar.gz StartedAt: 2025-10-14 14:16:57 -0000 (Tue, 14 Oct 2025) EndedAt: 2025-10-14 14:19:27 -0000 (Tue, 14 Oct 2025) EllapsedTime: 150.2 seconds RetCode: 0 Status: OK CheckDir: sights.Rcheck Warnings: 0