Package: sights Version: 1.34.0 Command: /home/biocbuild/R/R/bin/R CMD build --keep-empty-dirs --no-resave-data sights StartedAt: 2025-10-14 04:43:30 -0000 (Tue, 14 Oct 2025) EndedAt: 2025-10-14 04:44:27 -0000 (Tue, 14 Oct 2025) EllapsedTime: 57.1 seconds RetCode: 0 Status: OK PackageFile: sights_1.34.0.tar.gz PackageFileSize: 5.258 MiB