Package: siggenes Version: 1.83.0 Command: /home/biocbuild/R/R/bin/R CMD check --install=check:siggenes.install-out.txt --library=/home/biocbuild/R/R/site-library --no-vignettes --timings siggenes_1.83.0.tar.gz StartedAt: 2025-10-17 13:40:11 -0000 (Fri, 17 Oct 2025) EndedAt: 2025-10-17 13:41:41 -0000 (Fri, 17 Oct 2025) EllapsedTime: 90.1 seconds RetCode: 0 Status: OK CheckDir: siggenes.Rcheck Warnings: 0