Package: siggenes Version: 1.83.0 Command: /home/biocbuild/R/R/bin/R CMD build --keep-empty-dirs --no-resave-data siggenes StartedAt: 2025-10-21 03:10:35 -0000 (Tue, 21 Oct 2025) EndedAt: 2025-10-21 03:11:08 -0000 (Tue, 21 Oct 2025) EllapsedTime: 33.0 seconds RetCode: 0 Status: OK PackageFile: siggenes_1.83.0.tar.gz PackageFileSize: 732.4 KiB