Package: siggenes Version: 1.82.0 Command: rm -rf siggenes.buildbin-libdir && mkdir siggenes.buildbin-libdir && E:\biocbuild\bbs-3.21-bioc\R\bin\R.exe CMD INSTALL --build --library=siggenes.buildbin-libdir siggenes_1.82.0.tar.gz StartedAt: 2025-08-15 10:18:49 -0400 (Fri, 15 Aug 2025) EndedAt: 2025-08-15 10:19:40 -0400 (Fri, 15 Aug 2025) EllapsedTime: 51.3 seconds RetCode: 0 Status: OK PackageFile: siggenes_1.82.0.zip PackageFileSize: 1.013 MiB