Package: siggenes Version: 1.84.0 Command: /home/biocbuild/bbs-3.22-bioc/R/bin/R CMD check --install=check:siggenes.install-out.txt --library=/home/biocbuild/bbs-3.22-bioc/R/site-library --timings siggenes_1.84.0.tar.gz StartedAt: 2025-11-07 04:04:04 -0500 (Fri, 07 Nov 2025) EndedAt: 2025-11-07 04:05:19 -0500 (Fri, 07 Nov 2025) EllapsedTime: 75.1 seconds RetCode: 0 Status: OK CheckDir: siggenes.Rcheck Warnings: 0