Package: siggenes Version: 1.82.0 Command: rm -rf siggenes.buildbin-libdir && mkdir siggenes.buildbin-libdir && /Users/biocbuild/BBS/utils/build-universal.sh siggenes_1.82.0.tar.gz /Library/Frameworks/R.framework/Resources/bin/R siggenes.buildbin-libdir StartedAt: 2025-04-21 22:52:34 -0400 (Mon, 21 Apr 2025) EndedAt: 2025-04-21 22:52:39 -0400 (Mon, 21 Apr 2025) EllapsedTime: 5.1 seconds RetCode: 0 Status: OK PackageFile: siggenes_1.82.0.tgz PackageFileSize: 1.232 MiB