Package: shinyepico Version: 1.16.0 Command: E:\biocbuild\bbs-3.21-bioc\R\bin\R.exe CMD check --no-multiarch --install=check:shinyepico.install-out.txt --library=E:\biocbuild\bbs-3.21-bioc\R\library --no-vignettes --timings shinyepico_1.16.0.tar.gz StartedAt: 2025-08-15 06:54:43 -0400 (Fri, 15 Aug 2025) EndedAt: 2025-08-15 06:59:43 -0400 (Fri, 15 Aug 2025) EllapsedTime: 300.7 seconds RetCode: 0 Status: OK CheckDir: shinyepico.Rcheck Warnings: 0