Package: shinyepico Version: 1.16.0 Command: /home/biocbuild/bbs-3.21-bioc/R/bin/R CMD check --install=check:shinyepico.install-out.txt --library=/home/biocbuild/bbs-3.21-bioc/R/site-library --timings shinyepico_1.16.0.tar.gz StartedAt: 2025-10-02 03:31:15 -0400 (Thu, 02 Oct 2025) EndedAt: 2025-10-02 03:34:06 -0400 (Thu, 02 Oct 2025) EllapsedTime: 171.4 seconds RetCode: 0 Status: OK CheckDir: shinyepico.Rcheck Warnings: 0