Package: shinyepico Version: 1.16.0 Command: /Library/Frameworks/R.framework/Resources/bin/R CMD INSTALL shinyepico StartedAt: 2025-09-29 16:11:58 -0400 (Mon, 29 Sep 2025) EndedAt: 2025-09-29 16:12:09 -0400 (Mon, 29 Sep 2025) EllapsedTime: 11.3 seconds RetCode: 0 Status: OK