Package: shinyepico Version: 1.16.0 Command: /home/biocbuild/R/R/bin/R CMD INSTALL shinyepico StartedAt: 2025-09-25 20:57:26 -0000 (Thu, 25 Sep 2025) EndedAt: 2025-09-25 20:57:33 -0000 (Thu, 25 Sep 2025) EllapsedTime: 7.1 seconds RetCode: 0 Status: OK