Package: shinybiocloader Version: 1.0.0 Command: /home/biocbuild/R/R/bin/R CMD INSTALL shinybiocloader StartedAt: 2025-11-17 21:11:28 -0000 (Mon, 17 Nov 2025) EndedAt: 2025-11-17 21:12:27 -0000 (Mon, 17 Nov 2025) EllapsedTime: 59.0 seconds RetCode: 0 Status: OK