Package: shinybiocloader Version: 1.0.0 Command: /home/biocbuild/bbs-3.22-bioc/R/bin/R CMD INSTALL shinybiocloader StartedAt: 2025-11-17 16:59:50 -0500 (Mon, 17 Nov 2025) EndedAt: 2025-11-17 16:59:52 -0500 (Mon, 17 Nov 2025) EllapsedTime: 2.3 seconds RetCode: 0 Status: OK