Package: shinybiocloader Version: 1.0.0 Command: /Library/Frameworks/R.framework/Resources/bin/R CMD INSTALL shinybiocloader StartedAt: 2025-11-17 17:02:15 -0500 (Mon, 17 Nov 2025) EndedAt: 2025-11-17 17:02:16 -0500 (Mon, 17 Nov 2025) EllapsedTime: 1.1 seconds RetCode: 0 Status: OK