Package: shinybiocloader Version: 1.0.0 Command: /Library/Frameworks/R.framework/Resources/bin/R CMD check --install=check:shinybiocloader.install-out.txt --library=/Library/Frameworks/R.framework/Resources/library --no-vignettes --timings shinybiocloader_1.0.0.tar.gz StartedAt: 2025-11-18 12:59:50 -0500 (Tue, 18 Nov 2025) EndedAt: 2025-11-18 13:00:09 -0500 (Tue, 18 Nov 2025) EllapsedTime: 19.2 seconds RetCode: 0 Status: OK CheckDir: shinybiocloader.Rcheck Warnings: 0