Package: shinyMethyl Version: 1.45.0 Command: /home/biocbuild/R/R/bin/R CMD check --install=check:shinyMethyl.install-out.txt --library=/home/biocbuild/R/R/site-library --no-vignettes --timings shinyMethyl_1.45.0.tar.gz StartedAt: 2025-10-17 13:38:37 -0000 (Fri, 17 Oct 2025) EndedAt: 2025-10-17 13:46:11 -0000 (Fri, 17 Oct 2025) EllapsedTime: 453.7 seconds RetCode: 0 Status: OK CheckDir: shinyMethyl.Rcheck Warnings: 0