Package: shinyMethyl Version: 1.45.0 Command: /home/biocbuild/R/R/bin/R CMD build --keep-empty-dirs --no-resave-data shinyMethyl StartedAt: 2025-10-21 03:09:28 -0000 (Tue, 21 Oct 2025) EndedAt: 2025-10-21 03:10:51 -0000 (Tue, 21 Oct 2025) EllapsedTime: 83.0 seconds RetCode: 0 Status: OK PackageFile: shinyMethyl_1.45.0.tar.gz PackageFileSize: 7.305 MiB