Package: shiny.gosling Version: 1.5.0 Command: /home/biocbuild/R/R/bin/R CMD check --install=check:shiny.gosling.install-out.txt --library=/home/biocbuild/R/R/site-library --no-vignettes --timings shiny.gosling_1.5.0.tar.gz StartedAt: 2025-09-30 13:10:50 -0000 (Tue, 30 Sep 2025) EndedAt: 2025-09-30 13:11:38 -0000 (Tue, 30 Sep 2025) EllapsedTime: 48.2 seconds RetCode: 0 Status: OK CheckDir: shiny.gosling.Rcheck Warnings: 0