Package: shiny.gosling Version: 1.6.0 Command: /home/biocbuild/bbs-3.22-bioc/R/bin/R CMD INSTALL shiny.gosling StartedAt: 2025-11-06 15:09:18 -0500 (Thu, 06 Nov 2025) EndedAt: 2025-11-06 15:09:29 -0500 (Thu, 06 Nov 2025) EllapsedTime: 11.3 seconds RetCode: 0 Status: OK