Package: shiny.gosling Version: 1.5.0 Command: /home/biocbuild/bbs-3.22-bioc/R/bin/R CMD check --install=check:shiny.gosling.install-out.txt --library=/home/biocbuild/bbs-3.22-bioc/R/site-library --timings shiny.gosling_1.5.0.tar.gz StartedAt: 2025-10-09 04:45:11 -0400 (Thu, 09 Oct 2025) EndedAt: 2025-10-09 04:46:28 -0400 (Thu, 09 Oct 2025) EllapsedTime: 77.1 seconds RetCode: 1 Status: ERROR CheckDir: shiny.gosling.Rcheck Warnings: NA