Package: shiny.gosling Version: 1.6.0 Command: /home/biocbuild/bbs-3.22-bioc/R/bin/R CMD build --keep-empty-dirs --no-resave-data --md5 shiny.gosling StartedAt: 2025-11-06 20:03:48 -0500 (Thu, 06 Nov 2025) EndedAt: 2025-11-06 20:04:15 -0500 (Thu, 06 Nov 2025) EllapsedTime: 27.0 seconds RetCode: 1 Status: ERROR PackageFile: None PackageFileSize: NA