Package: shiny.gosling Version: 1.4.0 Command: /home/biocbuild/R/R/bin/R CMD build --keep-empty-dirs --no-resave-data shiny.gosling StartedAt: 2025-09-19 05:01:48 -0000 (Fri, 19 Sep 2025) EndedAt: 2025-09-19 05:02:32 -0000 (Fri, 19 Sep 2025) EllapsedTime: 44.0 seconds RetCode: 0 Status: OK PackageFile: shiny.gosling_1.4.0.tar.gz PackageFileSize: 1.718 MiB